BEGIN:VCALENDAR
VERSION:2.0
PRODID:-//garbalovers.com - ECPv6.2.2.1//NONSGML v1.0//EN
CALSCALE:GREGORIAN
METHOD:PUBLISH
X-WR-CALNAME:garbalovers.com
X-ORIGINAL-URL:https://testing.garbalovers.com
X-WR-CALDESC:Events for garbalovers.com
REFRESH-INTERVAL;VALUE=DURATION:PT1H
X-Robots-Tag:noindex
X-PUBLISHED-TTL:PT1H
BEGIN:VTIMEZONE
TZID:America/North_Dakota/Center
BEGIN:DAYLIGHT
TZOFFSETFROM:-0600
TZOFFSETTO:-0500
TZNAME:CDT
DTSTART:20230312T080000
END:DAYLIGHT
BEGIN:STANDARD
TZOFFSETFROM:-0500
TZOFFSETTO:-0600
TZNAME:CST
DTSTART:20231105T070000
END:STANDARD
END:VTIMEZONE
BEGIN:VEVENT
DTSTART;TZID=America/North_Dakota/Center:20231021T190000
DTEND;TZID=America/North_Dakota/Center:20231021T190000
DTSTAMP:20260419T230504
CREATED:20230923T145502Z
LAST-MODIFIED:20230926T020759Z
UID:10000019-1697914800-1697914800@testing.garbalovers.com
SUMMARY:Play Garba at DFW hindu Temple - Ekta Mandir
DESCRIPTION:  \n \nBe a part of the vibrant Garba festivities at the DFW Hindu Temple! Join us in a jubilant celebration of dance\, music\, and cultural togetherness. As the beats of the dhol (drum) fill the air\, we invite you to dance\, twirl\, and revel in the spirit of Garba. It’s a night where we come together to honor our traditions\, create joyful memories\, and celebrate the rich tapestry of our culture. So\, put on your dancing shoes\, embrace the lively atmosphere\, and let’s make this evening a spectacular celebration together!
URL:https://testing.garbalovers.com/event/play-garba-at-dfw-hindu-temple-ekta-mandir/
LOCATION:DFW hindu Temple – Ekta Mandir\, 606 North Britain Road\, Irving\, TX\, 75061\, United States
GEO:32.819094;-96.9418861
X-APPLE-STRUCTURED-LOCATION;VALUE=URI;X-ADDRESS=DFW hindu Temple – Ekta Mandir 606 North Britain Road Irving TX 75061 United States;X-APPLE-RADIUS=500;X-TITLE=606 North Britain Road:geo:-96.9418861,32.819094
END:VEVENT
BEGIN:VEVENT
DTSTART;TZID=America/North_Dakota/Center:20231021T190000
DTEND;TZID=America/North_Dakota/Center:20231021T190000
DTSTAMP:20260419T230504
CREATED:20230923T145015Z
LAST-MODIFIED:20230926T222833Z
UID:10000017-1697914800-1697914800@testing.garbalovers.com
SUMMARY:Disha Vrund\, Gujarati Samaj DFW
DESCRIPTION:  \nJoin us for an unforgettable Garba night with the talented Disha Vrund at the DFW Hindu Temple. It’s an invitation to celebrate the vibrant rhythms of Navaratri through the art of Garba. As the sun sets\, we’ll come together to light up the night with music\, dance\, and boundless joy. Disha Vrund’s mesmerizing melodies will set the stage on fire\, and you’re invited to dance to the beats of celebration. It’s a night where we create cherished memories\, celebrate our cultural heritage\, and immerse ourselves in the spirit of unity. Come\, be a part of this vibrant and spirited Garba celebration\, and let’s make this night truly unforgettable! \n  \nBuy your tickets here.
URL:https://testing.garbalovers.com/event/disha-vrund-gujarati-samaj-dfw/
LOCATION:Frisco Flyers Event Center\, 6300 Flyers Way\, Frisco\, TX\, 75034\, United States
GEO:33.1654479;-96.8312477
X-APPLE-STRUCTURED-LOCATION;VALUE=URI;X-ADDRESS=Frisco Flyers Event Center 6300 Flyers Way Frisco TX 75034 United States;X-APPLE-RADIUS=500;X-TITLE=6300 Flyers Way:geo:-96.8312477,33.1654479
END:VEVENT
BEGIN:VEVENT
DTSTART;TZID=America/North_Dakota/Center:20231022T190000
DTEND;TZID=America/North_Dakota/Center:20231022T190000
DTSTAMP:20260419T230504
CREATED:20230923T145632Z
LAST-MODIFIED:20230926T020318Z
UID:10000020-1698001200-1698001200@testing.garbalovers.com
SUMMARY:DFW hindu Temple - Ekta Mandir
DESCRIPTION:  \n \nPrepare to be enchanted by the magic of Garba at the DFW Hindu Temple! Join us for a night filled with the timeless traditions of dance\, the vibrant echoes of music\, and the joyous celebration of our culture. As we gather in a circle\, the sense of unity becomes palpable\, and the rhythmic claps and twirls of Garba create an electrifying atmosphere. It’s an evening where we honor our heritage\, create cherished memories\, and dance our hearts out. Come\, and experience the spirited magic of Garba with us\, and let’s make this celebration a night to remember!
URL:https://testing.garbalovers.com/event/dfw-hindu-temple-ekta-mandir-4/
LOCATION:DFW hindu Temple – Ekta Mandir\, 606 North Britain Road\, Irving\, TX\, 75061\, United States
GEO:32.819094;-96.9418861
X-APPLE-STRUCTURED-LOCATION;VALUE=URI;X-ADDRESS=DFW hindu Temple – Ekta Mandir 606 North Britain Road Irving TX 75061 United States;X-APPLE-RADIUS=500;X-TITLE=606 North Britain Road:geo:-96.9418861,32.819094
END:VEVENT
BEGIN:VEVENT
DTSTART;TZID=America/North_Dakota/Center:20231023T190000
DTEND;TZID=America/North_Dakota/Center:20231023T190000
DTSTAMP:20260419T230504
CREATED:20230923T145920Z
LAST-MODIFIED:20230926T221835Z
UID:10000021-1698087600-1698087600@testing.garbalovers.com
SUMMARY:DFW Hindu Temple - Ekta Mandir
DESCRIPTION:  \n  \nEmbark on a magical journey of Garba at the DFW Hindu Temple! Join us for a night that promises to immerse you in the essence of tradition\, music\, and festive jubilation. As the beats of the dhol (drum) set the rhythm\, we’ll come together to celebrate the vibrancy of Garba\, a dance that embodies the spirit of unity and joy. Let the colorful attire\, the rhythmic clapping\, and the twirls transport you to a world of pure delight. It’s an evening where we create lasting memories\, dance to the tunes of tradition\, and celebrate the cultural richness of our heritage. Come\, be a part of this exhilarating celebration\, and experience the enchantment of Garba like never before! \n 
URL:https://testing.garbalovers.com/event/dfw-hindu-temple-ekta-mandir-5/
LOCATION:DFW hindu Temple – Ekta Mandir\, 606 North Britain Road\, Irving\, TX\, 75061\, United States
GEO:32.819094;-96.9418861
X-APPLE-STRUCTURED-LOCATION;VALUE=URI;X-ADDRESS=DFW hindu Temple – Ekta Mandir 606 North Britain Road Irving TX 75061 United States;X-APPLE-RADIUS=500;X-TITLE=606 North Britain Road:geo:-96.9418861,32.819094
END:VEVENT
BEGIN:VEVENT
DTSTART;TZID=America/North_Dakota/Center:20231027T193000
DTEND;TZID=America/North_Dakota/Center:20231027T193000
DTSTAMP:20260419T230504
CREATED:20230923T150412Z
LAST-MODIFIED:20230927T000709Z
UID:10000022-1698435000-1698435000@testing.garbalovers.com
SUMMARY:RAANGTAALI 2023 AISHWARYA MAJMUDAR
DESCRIPTION:  \n \nGet ready for an electrifying Garba night like no other! Join us for an unforgettable evening of music\, dance\, and celebration as we sway to the enchanting tunes of Aishwarya Majmudar. Her soulful voice and captivating performances will make this Garba night a truly mesmerizing experience. Don’t miss out on the chance to dance to the rhythms of joy with the talented Aishwarya Majmudar! \nBuy your tickets here. \n 
URL:https://testing.garbalovers.com/event/raangtaali-2023-aishwarya-majmudar/
LOCATION:Family Worship center\, 910 Brand LN\, Stafford\, 77477\, United States
GEO:29.6136686;-95.5800458
X-APPLE-STRUCTURED-LOCATION;VALUE=URI;X-ADDRESS=Family Worship center 910 Brand LN Stafford 77477 United States;X-APPLE-RADIUS=500;X-TITLE=910 Brand LN:geo:-95.5800458,29.6136686
END:VEVENT
BEGIN:VEVENT
DTSTART;TZID=America/North_Dakota/Center:20231028T183000
DTEND;TZID=America/North_Dakota/Center:20231028T183000
DTSTAMP:20260419T230504
CREATED:20230923T150641Z
LAST-MODIFIED:20230929T225614Z
UID:10000023-1698517800-1698517800@testing.garbalovers.com
SUMMARY:RANGTAALI 2023 AISHWARYA MAJMUDAR
DESCRIPTION:  \nStep into the world of vibrant colors and rhythmic beats as we invite you to play Garba with the sensational Aishwarya Majmudar. Join us for a night filled with laughter\, music\, and unforgettable dance moves. Let’s create cherished memories together as we celebrate the spirit of Garba with Aishwarya’s soul-stirring melodies \n  \nBuy your tickets here.  \n 
URL:https://testing.garbalovers.com/event/rangtaali-2023-aishwarya-majmudar/
LOCATION:Loos Field Stadium\, 3815 Spring Valley Road\, Addison\, TX\, 75001\, United States
ATTACH;FMTTYPE=image/jpeg:https://testing.garbalovers.com/wp-content/uploads/2023/09/rangtaali-2023-aishwarya-majmudar-oct28_2023-08-29-06-11-55-422_73.jpg
GEO:32.9431764;-96.8514327
X-APPLE-STRUCTURED-LOCATION;VALUE=URI;X-ADDRESS=Loos Field Stadium 3815 Spring Valley Road Addison TX 75001 United States;X-APPLE-RADIUS=500;X-TITLE=3815 Spring Valley Road:geo:-96.8514327,32.9431764
END:VEVENT
BEGIN:VEVENT
DTSTART;TZID=America/North_Dakota/Center:20231029T190000
DTEND;TZID=America/North_Dakota/Center:20231029T190000
DTSTAMP:20260419T230504
CREATED:20230923T150934Z
LAST-MODIFIED:20230930T171838Z
UID:10000024-1698606000-1698606000@testing.garbalovers.com
SUMMARY:Lohana DFW Garba
DESCRIPTION:Come\, and be a part of a special and intimate evening where we celebrate the beauty of dance and culture. In this cozy setting\, every step becomes a brushstroke on the canvas of our shared heritage. Join us for a night of unity and joy\, where the language of dance transcends words\, and culture is our guiding light. Whether you’re an experienced dancer or simply wish to immerse yourself in this rich tradition\, all are welcome to partake in this unforgettable celebration. Let’s create lasting memories together\, one step at a time. \n \nLADFW – MEMBERS: FREE \nGUESTS – $10 PER PERSON \n  \nIf you want to sponsor or donate to support LA-DFW\, please make donations via Zelle on LaDFWpay@gmail.com \nAlternatively please contact Mayur Thakkar on (847) 754-0675 or a committee member. \n** All contributions to LA-DFW are Tax Deductible under section 501(c)(3) **
URL:https://testing.garbalovers.com/event/lohana-dfw-garba/
LOCATION:Radha Shyam Dham\, 820 W Airport Fwy\, Irving\, TX\, 75062\, United States
ATTACH;FMTTYPE=image/jpeg:https://testing.garbalovers.com/wp-content/uploads/2023/09/Screenshot-2023-09-30-at-5.56.34-PM.jpg
GEO:32.8353744;-96.9551017
X-APPLE-STRUCTURED-LOCATION;VALUE=URI;X-ADDRESS=Radha Shyam Dham 820 W Airport Fwy Irving TX 75062 United States;X-APPLE-RADIUS=500;X-TITLE=820 W Airport Fwy:geo:-96.9551017,32.8353744
END:VEVENT
END:VCALENDAR